BEGIN:VCALENDAR
VERSION:2.0
PRODID:-//eventon.com NONSGML v1.0//EN
CALSCALE:GREGORIAN
METHOD:PUBLISH
BEGIN:VEVENT
UID:69e9e12e3c7db
DTSTAMP:20260423T090654Z
DTSTART:20240318T210500Z
DTEND:20240318T215000Z
LOCATION:
SUMMARY:PowerSkate 1
DESCRIPTION:Power Skate 1 is an introductory session for skaters/players th
 at have not completed a Power Skate session and/or have been playing hockey
  for less than 2 years. This program is designed for skaters with experienc
 e on the ice or previously enrolled in a CanSkate program. This program wil
 l be taught[..]\nhttps://elmvaleskatingclub.com/events/powerskate-1-7/
URL:https://elmvaleskatingclub.com/events/powerskate-1-7/
END:VEVENT
END:VCALENDAR