BEGIN:VCALENDAR
VERSION:2.0
PRODID:-//eventon.com NONSGML v1.0//EN
CALSCALE:GREGORIAN
METHOD:PUBLISH
BEGIN:VEVENT
UID:69e72f0650b55
DTSTAMP:20260421T080214Z
DTSTART:20241031T221500Z
DTEND:20241031T233000Z
LOCATION:
SUMMARY:StarSkate Levels 1\,  2 & 3
DESCRIPTION:Skaters in this session will have successfully completed all Ca
 n Skate requirements.&nbsp; Skaters in this session will be working towards
  passing all Star 1\,  2 and 3 requirements.&nbsp;&nbsp; Each Star Skate 1-
 3 Session will include the following: 15 minutes SKILLS group lesson 15 min
 utes DANCE group lesson 15 minutes FREESKATE[..]\nhttps://elmvaleskatingclu
 b.com/events/starskate-levels-1-2-3-9/var/ri-1.l-L1
URL:https://elmvaleskatingclub.com/events/starskate-levels-1-2-3-9/var/ri-1.l-L1
END:VEVENT
END:VCALENDAR