BEGIN:VCALENDAR
VERSION:2.0
PRODID:-//eventon.com NONSGML v1.0//EN
CALSCALE:GREGORIAN
METHOD:PUBLISH
BEGIN:VEVENT
UID:69e9df40e4653
DTSTAMP:20260423T085840Z
DTSTART:20251206T145000Z
DTEND:20251206T153500Z
LOCATION:
SUMMARY:CanSkate Advanced
DESCRIPTION:Can Skate Advanced is designed for skaters who have previously 
 participated in approximately 2-3 Can Skate sessions and are close to succe
 ssfully completing all Can Skate requirements. In this session\,  skaters w
 ill work towards completing their Can Skate requirements in order to move t
 o the Star Skate sessions.\nhttps://elmvaleskatingclub.com/events/canskate-
 advanced-26/
URL:https://elmvaleskatingclub.com/events/canskate-advanced-26/
END:VEVENT
END:VCALENDAR