BEGIN:VCALENDAR
VERSION:2.0
PRODID:-//eventon.com NONSGML v1.0//EN
CALSCALE:GREGORIAN
METHOD:PUBLISH
BEGIN:VEVENT
UID:69e72f4755d6c
DTSTAMP:20260421T080319Z
DTSTART:20260223T220500Z
DTEND:20260223T225000Z
LOCATION:
SUMMARY:CanSkate Advanced
DESCRIPTION:Can Skate Advanced is designed for skaters who have previously 
 participated in approximately 2-3 Can Skate sessions and are close to succe
 ssfully completing all Can Skate requirements. In this session\,  skaters w
 ill work towards completing their Can Skate requirements in order to move t
 o the Star Skate sessions.\nhttps://elmvaleskatingclub.com/events/canskate-
 advanced-28/
URL:https://elmvaleskatingclub.com/events/canskate-advanced-28/
END:VEVENT
END:VCALENDAR