BEGIN:VCALENDAR
VERSION:2.0
PRODID:-//eventon.com NONSGML v1.0//EN
CALSCALE:GREGORIAN
METHOD:PUBLISH
BEGIN:VEVENT
UID:69e5e96a5f835
DTSTAMP:20260420T085258Z
DTSTART:20260223T230000Z
DTEND:20260223T234500Z
LOCATION:
SUMMARY:CanSkate
DESCRIPTION:CanSkate is Skate Canada’s learn-to-skate program for childr
 en who can already stand\,  balance\,  and move on their own. Skaters work 
 through Stages 1–3\,  building confidence and strong foundational skills
  like gliding\,  stopping\,  turning\,  and basic edge work — all in a fu
 n and motivating environment.\nhttps://elmvaleskatingclub.com/events/canska
 te-29/
URL:https://elmvaleskatingclub.com/events/canskate-29/
END:VEVENT
END:VCALENDAR