BEGIN:VCALENDAR
VERSION:2.0
PRODID:-//eventon.com NONSGML v1.0//EN
CALSCALE:GREGORIAN
METHOD:PUBLISH
BEGIN:VEVENT
UID:69e731aad030b
DTSTAMP:20260421T081330Z
DTSTART:20260105T234500Z
DTEND:20260106T003000Z
LOCATION:
SUMMARY:Hockey Skating Fundamentals
DESCRIPTION:This program is designed to develop the core skating skills ess
 ential for hockey players\,  including control\,  speed\,  and stride mecha
 nics. Skaters will engage in repetitive drills focused on edge work to inst
 ill strong habits that translate into effective game performance. Key areas
  of focus include: Edge Control: Repetition of edge[..]\nhttps://elmvaleska
 tingclub.com/events/hockey-skating-fundamentals/
URL:https://elmvaleskatingclub.com/events/hockey-skating-fundamentals/
END:VEVENT
END:VCALENDAR